BEGIN:VCALENDAR
VERSION:2.0
PRODID:-//Ormskirk and District Scouts - ECPv6.15.20//NONSGML v1.0//EN
CALSCALE:GREGORIAN
METHOD:PUBLISH
X-ORIGINAL-URL:https://ormskirkscouts.org.uk
X-WR-CALDESC:Events for Ormskirk and District Scouts
REFRESH-INTERVAL;VALUE=DURATION:PT1H
X-Robots-Tag:noindex
X-PUBLISHED-TTL:PT1H
BEGIN:VTIMEZONE
TZID:UTC
BEGIN:STANDARD
TZOFFSETFROM:+0000
TZOFFSETTO:+0000
TZNAME:UTC
DTSTART:20220101T000000
END:STANDARD
END:VTIMEZONE
BEGIN:VEVENT
DTSTART;TZID=UTC:20230314T193000
DTEND;TZID=UTC:20230314T210000
DTSTAMP:20260423T112740
CREATED:20230302T161105Z
LAST-MODIFIED:20230302T161105Z
UID:191-1678822200-1678827600@ormskirkscouts.org.uk
SUMMARY:County Explorer Forum
DESCRIPTION:Explorers to be asked when it is their Units turn to attend.
URL:https://ormskirkscouts.org.uk/event/county-explorer-forum-4/
LOCATION:Preston Train Station – Community Room\, Platform 4\, United Kingdom
CATEGORIES:Explorers
END:VEVENT
END:VCALENDAR