BEGIN:VCALENDAR
VERSION:2.0
PRODID:-//Ormskirk and District Scouts - ECPv6.15.20//NONSGML v1.0//EN
CALSCALE:GREGORIAN
METHOD:PUBLISH
X-ORIGINAL-URL:https://ormskirkscouts.org.uk
X-WR-CALDESC:Events for Ormskirk and District Scouts
REFRESH-INTERVAL;VALUE=DURATION:PT1H
X-Robots-Tag:noindex
X-PUBLISHED-TTL:PT1H
BEGIN:VTIMEZONE
TZID:UTC
BEGIN:STANDARD
TZOFFSETFROM:+0000
TZOFFSETTO:+0000
TZNAME:UTC
DTSTART:20220101T000000
END:STANDARD
END:VTIMEZONE
BEGIN:VEVENT
DTSTART;TZID=UTC:20230326T160000
DTEND;TZID=UTC:20230326T180000
DTSTAMP:20260423T112820
CREATED:20230302T160950Z
LAST-MODIFIED:20230302T160950Z
UID:187-1679846400-1679853600@ormskirkscouts.org.uk
SUMMARY:Network/Explorer Linking Archery Competition (age 17's only)
DESCRIPTION:
URL:https://ormskirkscouts.org.uk/event/network-explorer-linking-archery-competition-age-17s-only/
CATEGORIES:Explorers,Network
END:VEVENT
END:VCALENDAR