BEGIN:VCALENDAR
VERSION:2.0
PRODID:-//Ormskirk and District Scouts - ECPv6.15.20//NONSGML v1.0//EN
CALSCALE:GREGORIAN
METHOD:PUBLISH
X-ORIGINAL-URL:https://ormskirkscouts.org.uk
X-WR-CALDESC:Events for Ormskirk and District Scouts
REFRESH-INTERVAL;VALUE=DURATION:PT1H
X-Robots-Tag:noindex
X-PUBLISHED-TTL:PT1H
BEGIN:VTIMEZONE
TZID:UTC
BEGIN:STANDARD
TZOFFSETFROM:+0000
TZOFFSETTO:+0000
TZNAME:UTC
DTSTART:20220101T000000
END:STANDARD
END:VTIMEZONE
BEGIN:VEVENT
DTSTART;TZID=UTC:20230328T193000
DTEND;TZID=UTC:20230328T210000
DTSTAMP:20260423T095600
CREATED:20230302T160743Z
LAST-MODIFIED:20230302T160743Z
UID:185-1680031800-1680037200@ormskirkscouts.org.uk
SUMMARY:All Members Meeting
DESCRIPTION:
URL:https://ormskirkscouts.org.uk/event/all-members-meeting-3/
LOCATION:Ormskirk C of E Primary School\, Greetby Hill\, Ormskirk\, L39 2DP\, United Kingdom
CATEGORIES:Meetings
END:VEVENT
END:VCALENDAR