BEGIN:VCALENDAR
VERSION:2.0
PRODID:-//Ormskirk and District Scouts - ECPv6.15.20//NONSGML v1.0//EN
CALSCALE:GREGORIAN
METHOD:PUBLISH
X-WR-CALNAME:Ormskirk and District Scouts
X-ORIGINAL-URL:https://ormskirkscouts.org.uk
X-WR-CALDESC:Events for Ormskirk and District Scouts
REFRESH-INTERVAL;VALUE=DURATION:PT1H
X-Robots-Tag:noindex
X-PUBLISHED-TTL:PT1H
BEGIN:VTIMEZONE
TZID:UTC
BEGIN:STANDARD
TZOFFSETFROM:+0000
TZOFFSETTO:+0000
TZNAME:UTC
DTSTART:20220101T000000
END:STANDARD
END:VTIMEZONE
BEGIN:VEVENT
DTSTART;TZID=UTC:20230404T190000
DTEND;TZID=UTC:20230404T203000
DTSTAMP:20260423T095111
CREATED:20230302T160649Z
LAST-MODIFIED:20230302T160649Z
UID:181-1680634800-1680640200@ormskirkscouts.org.uk
SUMMARY:District Explorer Forum Month 6
DESCRIPTION:Joining codes can be provided by your leaders
URL:https://ormskirkscouts.org.uk/event/district-explorer-forum-month-6/
LOCATION:Zoom
CATEGORIES:Explorers
END:VEVENT
END:VCALENDAR