BEGIN:VCALENDAR
VERSION:2.0
PRODID:-//Ormskirk and District Scouts - ECPv6.15.20//NONSGML v1.0//EN
CALSCALE:GREGORIAN
METHOD:PUBLISH
X-WR-CALNAME:Ormskirk and District Scouts
X-ORIGINAL-URL:https://ormskirkscouts.org.uk
X-WR-CALDESC:Events for Ormskirk and District Scouts
REFRESH-INTERVAL;VALUE=DURATION:PT1H
X-Robots-Tag:noindex
X-PUBLISHED-TTL:PT1H
BEGIN:VTIMEZONE
TZID:UTC
BEGIN:STANDARD
TZOFFSETFROM:+0000
TZOFFSETTO:+0000
TZNAME:UTC
DTSTART:20220101T000000
END:STANDARD
END:VTIMEZONE
BEGIN:VEVENT
DTSTART;VALUE=DATE:20230428
DTEND;VALUE=DATE:20230502
DTSTAMP:20260423T095110
CREATED:20230302T160244Z
LAST-MODIFIED:20230302T160244Z
UID:168-1682640000-1682985599@ormskirkscouts.org.uk
SUMMARY:District Explorer Kielder Water Sports Camp
DESCRIPTION:Explorers attending will be emailed directly with details.
URL:https://ormskirkscouts.org.uk/event/district-explorer-kielder-water-sports-camp/
LOCATION:Hawkhirst Scouts Activity Centre\, Falstone\, NE48 1QZ\, United Kingdom
CATEGORIES:Explorers
END:VEVENT
END:VCALENDAR