BEGIN:VCALENDAR
VERSION:2.0
PRODID:-//Ormskirk and District Scouts - ECPv6.15.20//NONSGML v1.0//EN
CALSCALE:GREGORIAN
METHOD:PUBLISH
X-WR-CALNAME:Ormskirk and District Scouts
X-ORIGINAL-URL:https://ormskirkscouts.org.uk
X-WR-CALDESC:Events for Ormskirk and District Scouts
REFRESH-INTERVAL;VALUE=DURATION:PT1H
X-Robots-Tag:noindex
X-PUBLISHED-TTL:PT1H
BEGIN:VTIMEZONE
TZID:UTC
BEGIN:STANDARD
TZOFFSETFROM:+0000
TZOFFSETTO:+0000
TZNAME:UTC
DTSTART:20220101T000000
END:STANDARD
END:VTIMEZONE
BEGIN:VEVENT
DTSTART;VALUE=DATE:20230715
DTEND;VALUE=DATE:20230717
DTSTAMP:20260423T051012
CREATED:20230302T155509Z
LAST-MODIFIED:20230302T155509Z
UID:142-1689379200-1689551999@ormskirkscouts.org.uk
SUMMARY:Alcatraz
DESCRIPTION:
URL:https://ormskirkscouts.org.uk/event/alcatraz/
CATEGORIES:Events,Explorers,Network
END:VEVENT
BEGIN:VEVENT
DTSTART;TZID=UTC:20230716T140000
DTEND;TZID=UTC:20230716T170000
DTSTAMP:20260423T051012
CREATED:20230302T155440Z
LAST-MODIFIED:20230302T155440Z
UID:140-1689516000-1689526800@ormskirkscouts.org.uk
SUMMARY:All Members BBQ
DESCRIPTION:
URL:https://ormskirkscouts.org.uk/event/all-members-bbq/
LOCATION:Ormskirk and District Scouts\, Hall Lane\, Lathom\, L40 5UN\, United Kingdom
CATEGORIES:Meetings
END:VEVENT
END:VCALENDAR