BEGIN:VCALENDAR
VERSION:2.0
PRODID:-//Ormskirk and District Scouts - ECPv6.15.20//NONSGML v1.0//EN
CALSCALE:GREGORIAN
METHOD:PUBLISH
X-ORIGINAL-URL:https://ormskirkscouts.org.uk
X-WR-CALDESC:Events for Ormskirk and District Scouts
REFRESH-INTERVAL;VALUE=DURATION:PT1H
X-Robots-Tag:noindex
X-PUBLISHED-TTL:PT1H
BEGIN:VTIMEZONE
TZID:UTC
BEGIN:STANDARD
TZOFFSETFROM:+0000
TZOFFSETTO:+0000
TZNAME:UTC
DTSTART:20220101T000000
END:STANDARD
END:VTIMEZONE
BEGIN:VEVENT
DTSTART;VALUE=DATE:20230923
DTEND;VALUE=DATE:20230925
DTSTAMP:20260423T021958
CREATED:20230302T155220Z
LAST-MODIFIED:20230302T155220Z
UID:131-1695427200-1695599999@ormskirkscouts.org.uk
SUMMARY:Gathering
DESCRIPTION:
URL:https://ormskirkscouts.org.uk/event/gathering/
LOCATION:Tawd Vale Scouts Activity Centre\, Lowry Hill Ln\, Lathom\, L40 5UL\, United Kingdom
CATEGORIES:Beavers,Cubs,Events,Explorers,Network,Scouts,Squirrels
END:VEVENT
END:VCALENDAR