BEGIN:VCALENDAR
VERSION:2.0
PRODID:-//Ormskirk and District Scouts - ECPv6.15.20//NONSGML v1.0//EN
CALSCALE:GREGORIAN
METHOD:PUBLISH
X-WR-CALNAME:Ormskirk and District Scouts
X-ORIGINAL-URL:https://ormskirkscouts.org.uk
X-WR-CALDESC:Events for Ormskirk and District Scouts
REFRESH-INTERVAL;VALUE=DURATION:PT1H
X-Robots-Tag:noindex
X-PUBLISHED-TTL:PT1H
BEGIN:VTIMEZONE
TZID:UTC
BEGIN:STANDARD
TZOFFSETFROM:+0000
TZOFFSETTO:+0000
TZNAME:UTC
DTSTART:20220101T000000
END:STANDARD
END:VTIMEZONE
BEGIN:VEVENT
DTSTART;TZID=UTC:20231214T193000
DTEND;TZID=UTC:20231214T210000
DTSTAMP:20260423T064852
CREATED:20230302T154713Z
LAST-MODIFIED:20230302T154808Z
UID:118-1702582200-1702587600@ormskirkscouts.org.uk
SUMMARY:GSLs Meeting
DESCRIPTION:
URL:https://ormskirkscouts.org.uk/event/gsls-meeting/
LOCATION:Ormskirk and District Scouts\, Hall Lane\, Lathom\, L40 5UN\, United Kingdom
CATEGORIES:Meetings
END:VEVENT
END:VCALENDAR