BEGIN:VCALENDAR
VERSION:2.0
PRODID:-//Ormskirk and District Scouts - ECPv6.15.20//NONSGML v1.0//EN
CALSCALE:GREGORIAN
METHOD:PUBLISH
X-WR-CALNAME:Ormskirk and District Scouts
X-ORIGINAL-URL:https://ormskirkscouts.org.uk
X-WR-CALDESC:Events for Ormskirk and District Scouts
REFRESH-INTERVAL;VALUE=DURATION:PT1H
X-Robots-Tag:noindex
X-PUBLISHED-TTL:PT1H
BEGIN:VTIMEZONE
TZID:UTC
BEGIN:STANDARD
TZOFFSETFROM:+0000
TZOFFSETTO:+0000
TZNAME:UTC
DTSTART:20220101T000000
END:STANDARD
END:VTIMEZONE
BEGIN:VEVENT
DTSTART;TZID=UTC:20231122T193000
DTEND;TZID=UTC:20231122T210000
DTSTAMP:20260423T100313
CREATED:20230302T154849Z
LAST-MODIFIED:20230828T103940Z
UID:123-1700681400-1700686800@ormskirkscouts.org.uk
SUMMARY:District Executive Meeting
DESCRIPTION:
URL:https://ormskirkscouts.org.uk/event/district-executive-meeting/
CATEGORIES:Meetings
END:VEVENT
BEGIN:VEVENT
DTSTART;TZID=UTC:20231204T180000
DTEND;TZID=UTC:20231204T200000
DTSTAMP:20260423T100313
CREATED:20230302T154757Z
LAST-MODIFIED:20230302T154757Z
UID:121-1701712800-1701720000@ormskirkscouts.org.uk
SUMMARY:District Carol Service
DESCRIPTION:
URL:https://ormskirkscouts.org.uk/event/district-carol-service/
CATEGORIES:Events
END:VEVENT
BEGIN:VEVENT
DTSTART;TZID=UTC:20231214T193000
DTEND;TZID=UTC:20231214T210000
DTSTAMP:20260423T100313
CREATED:20230302T154713Z
LAST-MODIFIED:20230302T154808Z
UID:118-1702582200-1702587600@ormskirkscouts.org.uk
SUMMARY:GSLs Meeting
DESCRIPTION:
URL:https://ormskirkscouts.org.uk/event/gsls-meeting/
LOCATION:Ormskirk and District Scouts\, Hall Lane\, Lathom\, L40 5UN\, United Kingdom
CATEGORIES:Meetings
END:VEVENT
BEGIN:VEVENT
DTSTART;TZID=UTC:20231219T193000
DTEND;TZID=UTC:20231219T210000
DTSTAMP:20260423T100313
CREATED:20230302T154518Z
LAST-MODIFIED:20230302T154518Z
UID:115-1703014200-1703019600@ormskirkscouts.org.uk
SUMMARY:All Members Meeting
DESCRIPTION:
URL:https://ormskirkscouts.org.uk/event/all-members-meeting/
LOCATION:Ormskirk C of E Primary School\, Greetby Hill\, Ormskirk\, L39 2DP\, United Kingdom
CATEGORIES:Meetings
END:VEVENT
BEGIN:VEVENT
DTSTART;VALUE=DATE:20240127
DTEND;VALUE=DATE:20240128
DTSTAMP:20260423T100313
CREATED:20230302T142429Z
LAST-MODIFIED:20230302T142429Z
UID:23-1706313600-1706399999@ormskirkscouts.org.uk
SUMMARY:Moonlight
DESCRIPTION:
URL:https://ormskirkscouts.org.uk/event/moonlight/
CATEGORIES:Events,Explorers,Network,Scouts
END:VEVENT
END:VCALENDAR