BEGIN:VCALENDAR
VERSION:2.0
PRODID:-//Ormskirk and District Scouts - ECPv6.15.20//NONSGML v1.0//EN
CALSCALE:GREGORIAN
METHOD:PUBLISH
X-WR-CALNAME:Ormskirk and District Scouts
X-ORIGINAL-URL:https://ormskirkscouts.org.uk
X-WR-CALDESC:Events for Ormskirk and District Scouts
REFRESH-INTERVAL;VALUE=DURATION:PT1H
X-Robots-Tag:noindex
X-PUBLISHED-TTL:PT1H
BEGIN:VTIMEZONE
TZID:UTC
BEGIN:STANDARD
TZOFFSETFROM:+0000
TZOFFSETTO:+0000
TZNAME:UTC
DTSTART:20230101T000000
END:STANDARD
END:VTIMEZONE
BEGIN:VEVENT
DTSTART;VALUE=DATE:20240127
DTEND;VALUE=DATE:20240128
DTSTAMP:20260423T113200
CREATED:20230302T142429Z
LAST-MODIFIED:20230302T142429Z
UID:23-1706313600-1706399999@ormskirkscouts.org.uk
SUMMARY:Moonlight
DESCRIPTION:
URL:https://ormskirkscouts.org.uk/event/moonlight/
CATEGORIES:Events,Explorers,Network,Scouts
END:VEVENT
END:VCALENDAR